BEGIN:VCALENDAR
VERSION:2.0
PRODID:icalendar-ruby
CALSCALE:GREGORIAN
METHOD:PUBLISH
BEGIN:VEVENT
DTSTAMP:20260422T114740Z
UID:13-2978347@ngcclife.com
DTSTART:20231112T183000Z
DTEND:20231112T193000Z
CLASS:PUBLIC
CREATED:20260422T034306
DESCRIPTION:English Service
LAST-MODIFIED:20260422T034306
LOCATION:
SUMMARY:English Worship Service
URL;VALUE=URI:https://ngcclife.com/events/english-worship-service--13/2023-
 11-12
END:VEVENT
END:VCALENDAR
