BEGIN:VCALENDAR
VERSION:2.0
PRODID:icalendar-ruby
CALSCALE:GREGORIAN
METHOD:PUBLISH
BEGIN:VEVENT
DTSTAMP:20260422T101941Z
UID:13-2976491@ngcclife.com
DTSTART:20231105T183000Z
DTEND:20231105T193000Z
CLASS:PUBLIC
CREATED:20260421T164543
DESCRIPTION:English Service
LAST-MODIFIED:20260421T164543
LOCATION:
SUMMARY:English Worship Service
URL;VALUE=URI:https://ngcclife.com/events/english-worship-service--13/2023-
 11-05
END:VEVENT
END:VCALENDAR
