BEGIN:VCALENDAR
VERSION:2.0
PRODID:icalendar-ruby
CALSCALE:GREGORIAN
METHOD:PUBLISH
BEGIN:VEVENT
DTSTAMP:20260420T125554Z
UID:368-2929190@ngcclife.com
DTSTART:20260502T150000Z
DTEND:20260502T180000Z
CLASS:PUBLIC
CREATED:20260417T114635
DESCRIPTION:
LAST-MODIFIED:20260417T114635
LOCATION:
SUMMARY:Car Wash Fundraiser
URL;VALUE=URI:https://ngcclife.com/events/car-wash-fundraiser--368/2026-05-
 02
ATTACH;FILENAME=NGCCYouth-Carwash-Slide-1920x1080.jpeg;FMTTYPE=image/jpeg:h
 ttps://dq5pwpg1q8ru0.cloudfront.net/2026/04/17/18/46/34/75efee8a-7389-46a9
 -8848-ef678f8d5fd1/NGCCYouth-Carwash-Slide-1920x1080.jpeg
END:VEVENT
END:VCALENDAR
